BEGIN:VCALENDAR
VERSION:2.0
PRODID:-//wp-events-plugin.com//7.2.3.1//EN
TZID:America/New_York
X-WR-TIMEZONE:America/New_York
BEGIN:VEVENT
UID:2993@mohawkvalley.today
DTSTART;TZID=America/New_York:20260513T170000
DTEND;TZID=America/New_York:20260513T190000
DTSTAMP:20260424T190915Z
URL:https://mohawkvalley.today/events/4th-annual-community-services-fair/
SUMMARY:4th Annual Community Services Fair
DESCRIPTION:There will be a child safety seat check\, door prizes\, touch a
  truck\, child safe id's\, tons of great info and more!
ATTACH;FMTTYPE=image/jpeg:https://mohawkvalley.today/new/wp-content/upload
 s/2026/04/IMG_2059.jpeg
CATEGORIES:Oneida
LOCATION:Oneida High School\, 506 Seneca Street\, Oneida\, New Yor\, United
  States
X-APPLE-STRUCTURED-LOCATION;VALUE=URI;X-ADDRESS=506 Seneca Street\, Oneida\
 , New Yor\, United States;X-APPLE-RADIUS=100;X-TITLE=Oneida High School:ge
 o:0,0
END:VEVENT
BEGIN:VTIMEZONE
TZID:America/New_York
X-LIC-LOCATION:America/New_York
BEGIN:DAYLIGHT
DTSTART:20260308T030000
TZOFFSETFROM:-0500
TZOFFSETTO:-0400
TZNAME:EDT
END:DAYLIGHT
END:VTIMEZONE
END:VCALENDAR