BEGIN:VCALENDAR
VERSION:2.0
PRODID:-//wp-events-plugin.com//7.2.3.1//EN
TZID:America/New_York
X-WR-TIMEZONE:America/New_York
BEGIN:VEVENT
UID:1861@mohawkvalley.today
DTSTART;TZID=America/New_York:20251118T190000
DTEND;TZID=America/New_York:20251118T203000
DTSTAMP:20251114T193221Z
URL:https://mohawkvalley.today/events/a-mohawk-social-dance-at-the-foothil
 ls/
SUMMARY:A Mohawk Social Dance at the Foothills
DESCRIPTION:In celebration of Native American Heritage Month\, the Foothill
 s Performing Arts Center in Oneonta will host A Mohawk Social Dance on Mon
 day\, Nov. 18\, from 7 to 8:30 p.m. in the atrium.
ATTACH;FMTTYPE=image/jpeg:https://mohawkvalley.today/new/wp-content/upload
 s/2025/11/IMG_0047.jpeg
CATEGORIES:Oneonta NY,Otsego County
LOCATION:Foothills PAC\, 24 Market Street\, Oneonta\, New York\, 13820\, Un
 ited States
X-APPLE-STRUCTURED-LOCATION;VALUE=URI;X-ADDRESS=24 Market Street\, Oneonta\
 , New York\, 13820\, United States;X-APPLE-RADIUS=100;X-TITLE=Foothills PA
 C:geo:0,0
END:VEVENT
BEGIN:VTIMEZONE
TZID:America/New_York
X-LIC-LOCATION:America/New_York
BEGIN:STANDARD
DTSTART:20251102T010000
TZOFFSETFROM:-0400
TZOFFSETTO:-0500
TZNAME:EST
END:STANDARD
END:VTIMEZONE
END:VCALENDAR