BEGIN:VCALENDAR
VERSION:2.0
PRODID:-//wp-events-plugin.com//7.2.3.1//EN
TZID:America/New_York
X-WR-TIMEZONE:America/New_York
BEGIN:VEVENT
UID:2409@mohawkvalley.today
DTSTART;TZID=America/New_York:20260305T173000
DTEND;TZID=America/New_York:20260305T190000
DTSTAMP:20260220T150332Z
URL:https://mohawkvalley.today/events/amsterdam-public-open-house-comprehe
 nsive-plan-committee-public-hearing/
SUMMARY:Amsterdam Public Open House & Comprehensive Plan Committee Public H
 earing
DESCRIPTION:Residents and stakeholders invited to attend to review and prov
 ide feedback on the City’s Preliminary Draft of the 2026 Comprehensive P
 lan Update.
ATTACH;FMTTYPE=image/jpeg:https://mohawkvalley.today/new/wp-content/upload
 s/2024/04/IMG_4013.jpeg
CATEGORIES:Amsterdam NY,Montgomery County
LOCATION:Community and Economic Development Department Office\, 61 Church S
 treet\, Amsterdam\, New York\, 12010\, United States
X-APPLE-STRUCTURED-LOCATION;VALUE=URI;X-ADDRESS=61 Church Street\, Amsterda
 m\, New York\, 12010\, United States;X-APPLE-RADIUS=100;X-TITLE=Community 
 and Economic Development Department Office:geo:0,0
END:VEVENT
BEGIN:VTIMEZONE
TZID:America/New_York
X-LIC-LOCATION:America/New_York
BEGIN:STANDARD
DTSTART:20251102T010000
TZOFFSETFROM:-0400
TZOFFSETTO:-0500
TZNAME:EST
END:STANDARD
END:VTIMEZONE
END:VCALENDAR