BEGIN:VCALENDAR
VERSION:2.0
PRODID:-//wp-events-plugin.com//7.2.3.1//EN
TZID:America/New_York
X-WR-TIMEZONE:America/New_York
BEGIN:VEVENT
UID:2832@mohawkvalley.today
DTSTART;TZID=America/New_York:20260509T110000
DTEND;TZID=America/New_York:20260509T170000
DTSTAMP:20260331T124856Z
URL:https://mohawkvalley.today/events/amsterdam-spring-fling-festival/
SUMMARY:Amsterdam's Spring Fling Festival
DESCRIPTION:Amsterdam's Spring Fling Festival Sponsored by The Sentinel of 
 Amsterdam*May 9th *Downtown Amsterdam *11am-5pm
ATTACH;FMTTYPE=image/jpeg:https://mohawkvalley.today/new/wp-content/upload
 s/2026/03/IMG_1315.jpeg
CATEGORIES:Amsterdam NY,Montgomery County
LOCATION:Main Street Amsterdam\, Main Street\, Amsterdam\, New York\, 12020
 \, United States
X-APPLE-STRUCTURED-LOCATION;VALUE=URI;X-ADDRESS=Main Street\, Amsterdam\, N
 ew York\, 12020\, United States;X-APPLE-RADIUS=100;X-TITLE=Main Street Ams
 terdam:geo:0,0
END:VEVENT
BEGIN:VTIMEZONE
TZID:America/New_York
X-LIC-LOCATION:America/New_York
BEGIN:DAYLIGHT
DTSTART:20260308T030000
TZOFFSETFROM:-0500
TZOFFSETTO:-0400
TZNAME:EDT
END:DAYLIGHT
END:VTIMEZONE
END:VCALENDAR