BEGIN:VCALENDAR
VERSION:2.0
PRODID:-//wp-events-plugin.com//7.2.3.1//EN
TZID:America/New_York
X-WR-TIMEZONE:America/New_York
BEGIN:VEVENT
UID:1323@mohawkvalley.today
DTSTART;TZID=America/New_York:20250805T170000
DTEND;TZID=America/New_York:20250805T210000
DTSTAMP:20250729T213600Z
URL:https://mohawkvalley.today/events/amsterdams-national-night-out/
SUMMARY:Amsterdam's National Night Out
DESCRIPTION:National Night Out is an annual community building campaign tha
 t promotes police-community partnerships and neighborhood camaraderie to m
 ake our neighborhoods a safer\, better place to live.
ATTACH;FMTTYPE=image/jpeg:https://mohawkvalley.today/new/wp-content/upload
 s/2025/07/IMG_8231.jpeg
CATEGORIES:Amsterdam NY,Montgomery County
LOCATION:Veterans Park Amsterdam NY\, Locust Avenue\, Amsterdam\, New York\
 , 12010\, United States
X-APPLE-STRUCTURED-LOCATION;VALUE=URI;X-ADDRESS=Locust Avenue\, Amsterdam\,
  New York\, 12010\, United States;X-APPLE-RADIUS=100;X-TITLE=Veterans Park
  Amsterdam NY:geo:0,0
END:VEVENT
BEGIN:VTIMEZONE
TZID:America/New_York
X-LIC-LOCATION:America/New_York
BEGIN:DAYLIGHT
DTSTART:20250309T030000
TZOFFSETFROM:-0500
TZOFFSETTO:-0400
TZNAME:EDT
END:DAYLIGHT
END:VTIMEZONE
END:VCALENDAR