BEGIN:VCALENDAR
VERSION:2.0
PRODID:-//wp-events-plugin.com//7.2.3.1//EN
TZID:America/New_York
X-WR-TIMEZONE:America/New_York
BEGIN:VEVENT
UID:2994@mohawkvalley.today
DTSTART;TZID=America/New_York:20260513T180000
DTEND;TZID=America/New_York:20260513T180000
DTSTAMP:20260424T191835Z
URL:https://mohawkvalley.today/events/books-n-brews/
SUMMARY:Books N Brews
DESCRIPTION:Join us at Plaza's Italian Bistro on May 13th for a fun-filled 
 discussion of Everyone in My Family Has Killed Someone by Benjamin Stevens
 on! 
ATTACH;FMTTYPE=image/jpeg:https://mohawkvalley.today/new/wp-content/upload
 s/2026/04/IMG_2061.jpeg
CATEGORIES:Fulton County,Gloversville NY
LOCATION:Plaza’s Italian Bistro\, 130 N. Pine Street\, Gloversville\, New
  York\, United States
X-APPLE-STRUCTURED-LOCATION;VALUE=URI;X-ADDRESS=130 N. Pine Street\, Glover
 sville\, New York\, United States;X-APPLE-RADIUS=100;X-TITLE=Plaza’s Ita
 lian Bistro:geo:0,0
END:VEVENT
BEGIN:VTIMEZONE
TZID:America/New_York
X-LIC-LOCATION:America/New_York
BEGIN:DAYLIGHT
DTSTART:20260308T030000
TZOFFSETFROM:-0500
TZOFFSETTO:-0400
TZNAME:EDT
END:DAYLIGHT
END:VTIMEZONE
END:VCALENDAR