BEGIN:VCALENDAR
VERSION:2.0
PRODID:-//wp-events-plugin.com//7.2.3.1//EN
TZID:America/New_York
X-WR-TIMEZONE:America/New_York
BEGIN:VEVENT
UID:2268@mohawkvalley.today
DTSTART;TZID=America/New_York:20260130T000000
DTEND;TZID=America/New_York:20260201T000000
DTSTAMP:20260128T161221Z
URL:https://mohawkvalley.today/events/bundle-up-for-caroga-winter-carnival
 /
SUMMARY:Bundle Up for Caroga Winter Carnival
DESCRIPTION:The 2nd Annual Caroga Winter Carnival is here\, January 30–Fe
 bruary 1\, and Caroga Arts Collective is thrilled to be part of the fun!
ATTACH;FMTTYPE=image/jpeg:https://mohawkvalley.today/new/wp-content/upload
 s/2026/01/IMG_0685.jpeg
CATEGORIES:Caroga Lake NY,Fulton County
LOCATION:Sherman’s Park\, 114 East Shore Road West Caroga Lake\, Caroga L
 ake\, New York\, 12032\, United States
X-APPLE-STRUCTURED-LOCATION;VALUE=URI;X-ADDRESS=114 East Shore Road West Ca
 roga Lake\, Caroga Lake\, New York\, 12032\, United States;X-APPLE-RADIUS=
 100;X-TITLE=Sherman’s Park:geo:0,0
END:VEVENT
BEGIN:VTIMEZONE
TZID:America/New_York
X-LIC-LOCATION:America/New_York
BEGIN:STANDARD
DTSTART:20251102T010000
TZOFFSETFROM:-0400
TZOFFSETTO:-0500
TZNAME:EST
END:STANDARD
END:VTIMEZONE
END:VCALENDAR