BEGIN:VCALENDAR
VERSION:2.0
PRODID:-//wp-events-plugin.com//7.2.3.1//EN
TZID:America/New_York
X-WR-TIMEZONE:America/New_York
BEGIN:VEVENT
UID:2408@mohawkvalley.today
DTSTART;TZID=America/New_York:20260221T150000
DTEND;TZID=America/New_York:20260221T190000
DTSTAMP:20260220T145112Z
URL:https://mohawkvalley.today/events/cartoon-madness-at-the-capitol-theat
 re-2/
SUMMARY:Cartoon Madness at the Capitol Theatre
DESCRIPTION:The show will run at 3:00 pm on Friday and Saturday\, with an a
 dditional evening show on Saturday at 7:00 pm.
ATTACH;FMTTYPE=image/jpeg:https://mohawkvalley.today/new/wp-content/upload
 s/2026/02/IMG_0809.jpeg
CATEGORIES:Oneida County,Rome NY
LOCATION:Capitol Theatre\, 220 West Dominck Street\, Rome\, NY\, 13340\, Un
 ited States
X-APPLE-STRUCTURED-LOCATION;VALUE=URI;X-ADDRESS=220 West Dominck Street\, R
 ome\, NY\, 13340\, United States;X-APPLE-RADIUS=100;X-TITLE=Capitol Theatr
 e:geo:0,0
END:VEVENT
BEGIN:VTIMEZONE
TZID:America/New_York
X-LIC-LOCATION:America/New_York
BEGIN:STANDARD
DTSTART:20251102T010000
TZOFFSETFROM:-0400
TZOFFSETTO:-0500
TZNAME:EST
END:STANDARD
END:VTIMEZONE
END:VCALENDAR