BEGIN:VCALENDAR
VERSION:2.0
PRODID:-//wp-events-plugin.com//7.2.3.1//EN
TZID:America/New_York
X-WR-TIMEZONE:America/New_York
BEGIN:VEVENT
UID:2256@mohawkvalley.today
DTSTART;TZID=America/New_York:20260207T100000
DTEND;TZID=America/New_York:20260207T130000
DTSTAMP:20260121T175042Z
URL:https://mohawkvalley.today/events/cce-herkimer-county-seed-swap-event-
 at-the-little-falls-library/
SUMMARY:CCE Herkimer County Seed Swap Event at the Little Falls Library
DESCRIPTION:Please join our master gardeners for a Seed Swap event at the L
 ittle Falls Public Library on February 7th from 10am-1pm. Hosted by the Co
 rnell Cooperative Extension Herkimer County.
ATTACH;FMTTYPE=image/jpeg:https://mohawkvalley.today/new/wp-content/upload
 s/2026/01/IMG_0636.jpeg
CATEGORIES:Herkimer County,Little Falls NY
LOCATION:Little Falls Public Library\, 10 Waverly Place\, Little Falls\, Ne
 w York\, 13365\, United States
X-APPLE-STRUCTURED-LOCATION;VALUE=URI;X-ADDRESS=10 Waverly Place\, Little F
 alls\, New York\, 13365\, United States;X-APPLE-RADIUS=100;X-TITLE=Little 
 Falls Public Library:geo:0,0
END:VEVENT
BEGIN:VTIMEZONE
TZID:America/New_York
X-LIC-LOCATION:America/New_York
BEGIN:STANDARD
DTSTART:20251102T010000
TZOFFSETFROM:-0400
TZOFFSETTO:-0500
TZNAME:EST
END:STANDARD
END:VTIMEZONE
END:VCALENDAR