BEGIN:VCALENDAR
VERSION:2.0
PRODID:-//wp-events-plugin.com//7.2.3.1//EN
TZID:America/New_York
X-WR-TIMEZONE:America/New_York
BEGIN:VEVENT
UID:1888@mohawkvalley.today
DTSTART;TZID=America/New_York:20251129T100000
DTEND;TZID=America/New_York:20251129T140000
DTSTAMP:20251124T230200Z
URL:https://mohawkvalley.today/events/christmas-on-main-street-festive-act
 ivities-await-at-the-old-forge-library-2/
SUMMARY:Christmas on Main Street: Festive Activities Await at the Old Forge
  Library (copy)
DESCRIPTION:The Old Forge Library at 220 Crosby Blvd. invites the community
  to visit during the Central Adirondack Association’s Adirondack Christm
 as on Main Street.
ATTACH;FMTTYPE=image/jpeg:https://mohawkvalley.today/new/wp-content/upload
 s/2025/11/IMG_0171.jpeg
CATEGORIES:Herkimer County,Old Forge NY
LOCATION:Old Forge Library\, 220 Crosby Blvd\, Old Forge\, New York\, 13420
 \, United States
GEO:43.711362;-74.973462
X-APPLE-STRUCTURED-LOCATION;VALUE=URI;X-ADDRESS=220 Crosby Blvd\, Old Forge
 \, New York\, 13420\, United States;X-APPLE-RADIUS=100;X-TITLE=Old Forge L
 ibrary:geo:43.711362,-74.973462
END:VEVENT
BEGIN:VTIMEZONE
TZID:America/New_York
X-LIC-LOCATION:America/New_York
BEGIN:STANDARD
DTSTART:20251102T010000
TZOFFSETFROM:-0400
TZOFFSETTO:-0500
TZNAME:EST
END:STANDARD
END:VTIMEZONE
END:VCALENDAR