BEGIN:VCALENDAR
VERSION:2.0
PRODID:-//wp-events-plugin.com//7.2.3.1//EN
TZID:America/New_York
X-WR-TIMEZONE:America/New_York
BEGIN:VEVENT
UID:1650@mohawkvalley.today
DTSTART;TZID=America/New_York:20250927T100000
DTEND;TZID=America/New_York:20250927T140000
DTSTAMP:20250919T195315Z
URL:https://mohawkvalley.today/events/cpr-first-aid-class-and-certificatio
 n-at-the-old-forge-library/
SUMMARY:CPR First Aid Class and Certification at the Old Forge Library
DESCRIPTION:Certified instructor\, Nia Tormey\, will instruct up to eight s
 tudents for a free CPR\, First Aid and Certification Class at the Old Forg
 e Library\, 220 Crosby Blvd.\, on Saturday\, September 27 from 10 am - 2 p
 m.
ATTACH;FMTTYPE=image/jpeg:https://mohawkvalley.today/new/wp-content/upload
 s/2025/09/sept-CPR-Flyer-2025.jpg
CATEGORIES:Herkimer County,Old Forge NY
LOCATION:Old Forge Library\, 220 Crosby Blvd\, Old Forge\, New York\, 13420
 \, United States
GEO:43.711362;-74.973462
X-APPLE-STRUCTURED-LOCATION;VALUE=URI;X-ADDRESS=220 Crosby Blvd\, Old Forge
 \, New York\, 13420\, United States;X-APPLE-RADIUS=100;X-TITLE=Old Forge L
 ibrary:geo:43.711362,-74.973462
END:VEVENT
BEGIN:VTIMEZONE
TZID:America/New_York
X-LIC-LOCATION:America/New_York
BEGIN:DAYLIGHT
DTSTART:20250309T030000
TZOFFSETFROM:-0500
TZOFFSETTO:-0400
TZNAME:EDT
END:DAYLIGHT
END:VTIMEZONE
END:VCALENDAR