BEGIN:VCALENDAR
VERSION:2.0
PRODID:-//wp-events-plugin.com//7.2.3.1//EN
TZID:America/New_York
X-WR-TIMEZONE:America/New_York
BEGIN:VEVENT
UID:2997@mohawkvalley.today
DTSTART;TZID=America/New_York:20260509T100000
DTEND;TZID=America/New_York:20260509T150000
DTSTAMP:20260424T195525Z
URL:https://mohawkvalley.today/events/earth-festival/
SUMMARY:Earth Festival
DESCRIPTION:An annual celebration of sustainability\, community\, and envir
 onmental stewardship that brings together families\, students\, local orga
 nizations\, makers\, and environmental partners for a full day of learning
 \, inspiration\, and hands-on activities.
ATTACH;FMTTYPE=image/jpeg:https://mohawkvalley.today/new/wp-content/upload
 s/2026/04/IMG_2063.jpeg
CATEGORIES:Oneonta NY,Otsego County
LOCATION:SUNY Oneonta\, 68 Bugbee Rd\, Oneonta\, New York\, 13820\, United 
 States
X-APPLE-STRUCTURED-LOCATION;VALUE=URI;X-ADDRESS=68 Bugbee Rd\, Oneonta\, Ne
 w York\, 13820\, United States;X-APPLE-RADIUS=100;X-TITLE=SUNY Oneonta:geo
 :0,0
END:VEVENT
BEGIN:VTIMEZONE
TZID:America/New_York
X-LIC-LOCATION:America/New_York
BEGIN:DAYLIGHT
DTSTART:20260308T030000
TZOFFSETFROM:-0500
TZOFFSETTO:-0400
TZNAME:EDT
END:DAYLIGHT
END:VTIMEZONE
END:VCALENDAR