BEGIN:VCALENDAR
VERSION:2.0
PRODID:-//wp-events-plugin.com//7.2.3.1//EN
TZID:America/New_York
X-WR-TIMEZONE:America/New_York
BEGIN:VEVENT
UID:1649@mohawkvalley.today
DTSTART;TZID=America/New_York:20250927T150000
DTEND;TZID=America/New_York:20250927T150000
DTSTAMP:20250919T194558Z
URL:https://mohawkvalley.today/events/elizabeth-hearn-gleich-lecture-refra
 ming-the-canal/
SUMMARY:Elizabeth Hearn Gleich Lecture: Reframing the Canal
DESCRIPTION:Speaker Steph Adams\, Director of Interpretation at the Erie Ca
 nal Museum\, will discuss how the Erie Canal has tremendously impacted bot
 h the State and the Nation in its two hundred years of history. The Canal 
 itself—in addition to how we remember it and talk about it—helps shape
  American culture and our current reality.\nAdams will use artwork feature
 d in Mingling the Waters as well as work by past Erie Canal Artists-in-Res
 idence to discuss the relationship between art\, memory\, heritage tourism
 \, and history.\n\nAs we move toward the completion of the Canal’s Bicen
 tennial period and into America 250 commemorations\, it is up to us to sha
 pe how the Canal is remembered at its next milestone.\n\nThis lecture is f
 ree to attend\, and we are offering free museum admission day of.
ATTACH;FMTTYPE=image/jpeg:https://mohawkvalley.today/new/wp-content/upload
 s/2025/09/Elizabeth-Hearn-Gleich-Lecture.jpg
LOCATION:Arkell Museum and Canajoharie Library\, 2 Erie Boulevard\, Canajoh
 arie\, New York\, 13317\, United States
X-APPLE-STRUCTURED-LOCATION;VALUE=URI;X-ADDRESS=2 Erie Boulevard\, Canajoha
 rie\, New York\, 13317\, United States;X-APPLE-RADIUS=100;X-TITLE=Arkell M
 useum and Canajoharie Library:geo:0,0
END:VEVENT
BEGIN:VTIMEZONE
TZID:America/New_York
X-LIC-LOCATION:America/New_York
BEGIN:DAYLIGHT
DTSTART:20250309T030000
TZOFFSETFROM:-0500
TZOFFSETTO:-0400
TZNAME:EDT
END:DAYLIGHT
END:VTIMEZONE
END:VCALENDAR