BEGIN:VCALENDAR
VERSION:2.0
PRODID:-//wp-events-plugin.com//7.2.3.1//EN
TZID:America/New_York
X-WR-TIMEZONE:America/New_York
BEGIN:VEVENT
UID:1823@mohawkvalley.today
DTSTART;TZID=America/New_York:20251115T120000
DTEND;TZID=America/New_York:20251115T140000
DTSTAMP:20251106T210533Z
URL:https://mohawkvalley.today/events/empty-bowls-fundraiser/
SUMMARY:Empty Bowls Fundraiser
DESCRIPTION:Empty Bowls Fundraiser to Benefit the Cooperstown Food Pantry\n
 Cooperstown\, NY -  The Empty Bowls fundraiser for the Cooperstown Food P
 antry will be held on Saturday\, November 15 from 12 pm to 2 pm at the Chr
 ist Church Parish Hall\, 69 Fair Street\, in Cooperstown. For a $20 donati
 on at the door\, participants receive a hand-thrown bowl of their choice\,
  and a soup and bread lunch.\n“Empty Bowls has been a community fundrais
 er for years\,” said Will Kleffner. “People get to keep the empty bowl
  as a reminder of hunger in Otsego County\, but with the news about SNAP c
 uts\, HEAP cuts\, and the government shutdown\, it is clear that food inse
 curity is top of mind.”\nHe said that since the federal government stopp
 ed SNAP payments on November 1\, visits to the Food Pantry\, which serves 
 all of Otsego County\, have doubled. He said that the Empty Bowls event is
  sponsored by The Smithy\, Leatherstocking Credit Union\, and Altonview Ar
 chitects PC.\nSupport the Food Pantry’s Work\nTo support the work of the
  Food Pantry\, people also can donate via PayPal on the website\, cooperst
 ownfoodpantry.org\, or mail a check to the Cooperstown Food Pantry at 25 C
 hurch Street\, Cooperstown\, NY 13326. The Food Pantry\, now in its 47h ye
 ar\, is a 501(c)(3) nonprofit organization. The Pantry also could use more
  volunteers to handle the increased demand for its services\, call 607/547
 -8902 for more information.\nThe Cooperstown Food Pantry is open Mondays\,
  Tuesdays\, Wednesdays\, and Fridays from 10 am to 4 pm\, Thursdays from 1
  pm to 5 pm\, and Saturdays from 10 am to noon.\nPeople in need of food as
 sistance should call the Pantry at 607/547-8902 to place an order and arra
 nge a time to pick up.\n\nFor more information and updates\, see coopersto
 wnfoodpantry.org and the Food Pantry’s Facebook page\, www.facebook.com/
 CooperstownFoodPantry.
ATTACH;FMTTYPE=image/jpeg:https://mohawkvalley.today/new/wp-content/upload
 s/2025/11/Empty-Bowls-fundraiser-to-fight-hunger.jpeg
CATEGORIES:Cooperstown NY,Otsego County
LOCATION:Christ Church Parish Hall\, 69 Fair Street\, Cooperstown\, New Yor
 k\, United States
X-APPLE-STRUCTURED-LOCATION;VALUE=URI;X-ADDRESS=69 Fair Street\, Cooperstow
 n\, New York\, United States;X-APPLE-RADIUS=100;X-TITLE=Christ Church Pari
 sh Hall:geo:0,0
END:VEVENT
BEGIN:VTIMEZONE
TZID:America/New_York
X-LIC-LOCATION:America/New_York
BEGIN:STANDARD
DTSTART:20251102T010000
TZOFFSETFROM:-0400
TZOFFSETTO:-0500
TZNAME:EST
END:STANDARD
END:VTIMEZONE
END:VCALENDAR