BEGIN:VCALENDAR
VERSION:2.0
PRODID:-//wp-events-plugin.com//7.2.3.1//EN
TZID:America/New_York
X-WR-TIMEZONE:America/New_York
BEGIN:VEVENT
UID:2842@mohawkvalley.today
DTSTART;TZID=America/New_York:20260401T180000
DTEND;TZID=America/New_York:20260401T180000
DTSTAMP:20260402T115549Z
URL:https://mohawkvalley.today/events/flash-fiction-at-the-little-falls-pu
 blic-library-2-2026-04-01/
SUMMARY:Flash Fiction at the Little Falls Public Library
DESCRIPTION:Can you write a short piece in 500 words or less using our word
  of the week?
ATTACH;FMTTYPE=image/jpeg:https://mohawkvalley.today/new/wp-content/upload
 s/2024/06/4CE0BBE4-C629-4B0B-8812-E94C4B5D58ED.jpeg
CATEGORIES:Herkimer County,Little Falls NY
LOCATION:Little Falls Public Library\, 10 Waverly Place\, Little Falls\, Ne
 w York\, 13365\, United States
X-APPLE-STRUCTURED-LOCATION;VALUE=URI;X-ADDRESS=10 Waverly Place\, Little F
 alls\, New York\, 13365\, United States;X-APPLE-RADIUS=100;X-TITLE=Little 
 Falls Public Library:geo:0,0
END:VEVENT
BEGIN:VTIMEZONE
TZID:America/New_York
X-LIC-LOCATION:America/New_York
BEGIN:DAYLIGHT
DTSTART:20260308T030000
TZOFFSETFROM:-0500
TZOFFSETTO:-0400
TZNAME:EDT
END:DAYLIGHT
END:VTIMEZONE
END:VCALENDAR