BEGIN:VCALENDAR
VERSION:2.0
PRODID:-//wp-events-plugin.com//7.2.3.1//EN
TZID:America/New_York
X-WR-TIMEZONE:America/New_York
BEGIN:VEVENT
UID:1909@mohawkvalley.today
DTSTART;TZID=America/New_York:20251205T173000
DTEND;TZID=America/New_York:20251205T200000
DTSTAMP:20251203T110504Z
URL:https://mohawkvalley.today/events/fonda-tree-lighting-and-light-up-the
 -night/
SUMMARY:FONDA TREE LIGHTING AND LIGHT UP THE NIGHT
DESCRIPTION:“Light up the Night”\, a trunk-or-treat and light display\,
  will take place from 6 to 8 p.m. in the adjacent parking lot at 20-40 Par
 k St.
ATTACH;FMTTYPE=image/jpeg:https://mohawkvalley.today/new/wp-content/upload
 s/2025/12/IMG_0246.jpeg
CATEGORIES:Fonda NY,Montgomery County
LOCATION:Fonda Park\, 40 Park Street\, Fonda\, New York\, 12068\, United St
 ates
X-APPLE-STRUCTURED-LOCATION;VALUE=URI;X-ADDRESS=40 Park Street\, Fonda\, Ne
 w York\, 12068\, United States;X-APPLE-RADIUS=100;X-TITLE=Fonda Park:geo:0
 ,0
END:VEVENT
BEGIN:VTIMEZONE
TZID:America/New_York
X-LIC-LOCATION:America/New_York
BEGIN:STANDARD
DTSTART:20251102T010000
TZOFFSETFROM:-0400
TZOFFSETTO:-0500
TZNAME:EST
END:STANDARD
END:VTIMEZONE
END:VCALENDAR