BEGIN:VCALENDAR
VERSION:2.0
PRODID:-//wp-events-plugin.com//7.2.3.1//EN
TZID:America/New_York
X-WR-TIMEZONE:America/New_York
BEGIN:VEVENT
UID:2261@mohawkvalley.today
DTSTART;TZID=America/New_York:20260301T100000
DTEND;TZID=America/New_York:20260301T160000
DTSTAMP:20260123T141034Z
URL:https://mohawkvalley.today/events/free-advanced-beekeeping-course/
SUMMARY:Free Advanced Beekeeping Course
DESCRIPTION:SUNY IRV Advanced Beekeeping Microcredential is back for two ha
 nds-on weekend courses beginning on March 1\, 2026\, Cobleskill\, NY.
ATTACH;FMTTYPE=image/jpeg:https://mohawkvalley.today/new/wp-content/upload
 s/2026/01/IMG_4534.jpeg
CATEGORIES:Agricultural Events,Cobleskill NY,Schoharie County
LOCATION:SUNY Cobleskill\, 106 Suffolk Circle\, Cobleskill\, New York\, 120
 43\, United States
X-APPLE-STRUCTURED-LOCATION;VALUE=URI;X-ADDRESS=106 Suffolk Circle\, Cobles
 kill\, New York\, 12043\, United States;X-APPLE-RADIUS=100;X-TITLE=SUNY Co
 bleskill:geo:0,0
END:VEVENT
BEGIN:VTIMEZONE
TZID:America/New_York
X-LIC-LOCATION:America/New_York
BEGIN:STANDARD
DTSTART:20251102T010000
TZOFFSETFROM:-0400
TZOFFSETTO:-0500
TZNAME:EST
END:STANDARD
END:VTIMEZONE
END:VCALENDAR