BEGIN:VCALENDAR
VERSION:2.0
PRODID:-//wp-events-plugin.com//7.2.3.1//EN
TZID:America/New_York
X-WR-TIMEZONE:America/New_York
BEGIN:VEVENT
UID:2996@mohawkvalley.today
DTSTART;TZID=America/New_York:20260425T100000
DTEND;TZID=America/New_York:20260425T160000
DTSTAMP:20260424T193808Z
URL:https://mohawkvalley.today/events/gloversville-public-library-events/
SUMMARY:Gloversville Public Library Events
DESCRIPTION:The Gloversville Public Library has a packed schedule on Saturd
 ay\, April 25\, with something for everyone-from local history buffs to gr
 een thumbs and the little ones.
ATTACH;FMTTYPE=image/jpeg:https://mohawkvalley.today/new/wp-content/upload
 s/2025/10/IMG_9302.jpeg
CATEGORIES:Fulton County,Gloversville NY
LOCATION:Gloversville Public Library\, 58 East Fulton Street\, Gloversville
 \, New York\, 12078\, United States
X-APPLE-STRUCTURED-LOCATION;VALUE=URI;X-ADDRESS=58 East Fulton Street\, Glo
 versville\, New York\, 12078\, United States;X-APPLE-RADIUS=100;X-TITLE=Gl
 oversville Public Library:geo:0,0
END:VEVENT
BEGIN:VTIMEZONE
TZID:America/New_York
X-LIC-LOCATION:America/New_York
BEGIN:DAYLIGHT
DTSTART:20260308T030000
TZOFFSETFROM:-0500
TZOFFSETTO:-0400
TZNAME:EDT
END:DAYLIGHT
END:VTIMEZONE
END:VCALENDAR