BEGIN:VCALENDAR
VERSION:2.0
PRODID:-//wp-events-plugin.com//7.2.3.1//EN
TZID:America/New_York
X-WR-TIMEZONE:America/New_York
BEGIN:VEVENT
UID:2984@mohawkvalley.today
DTSTART;TZID=America/New_York:20260430T173000
DTEND;TZID=America/New_York:20260430T173000
DTSTAMP:20260424T094105Z
URL:https://mohawkvalley.today/events/grand-opening-and-ribbon-cutting-cer
 emony/
SUMMARY:Grand Opening and Ribbon Cutting Ceremony
DESCRIPTION:To mark the opening of the Fonda office\, the firm will host a 
 Grand Opening and Ribbon Cutting Ceremony in partnership with the Fulton-M
 ontgomery County Chamber of Commerce:
ATTACH;FMTTYPE=image/jpeg:https://mohawkvalley.today/new/wp-content/upload
 s/2026/04/IMG_2042.jpeg
CATEGORIES:Fonda NY,Montgomery County
LOCATION:Chad Majewski Real Estate\, 10 W. Main Street\, Fonda\, New York\,
  United States
X-APPLE-STRUCTURED-LOCATION;VALUE=URI;X-ADDRESS=10 W. Main Street\, Fonda\,
  New York\, United States;X-APPLE-RADIUS=100;X-TITLE=Chad Majewski Real Es
 tate:geo:0,0
END:VEVENT
BEGIN:VTIMEZONE
TZID:America/New_York
X-LIC-LOCATION:America/New_York
BEGIN:DAYLIGHT
DTSTART:20260308T030000
TZOFFSETFROM:-0500
TZOFFSETTO:-0400
TZNAME:EDT
END:DAYLIGHT
END:VTIMEZONE
END:VCALENDAR