BEGIN:VCALENDAR
VERSION:2.0
PRODID:-//wp-events-plugin.com//7.2.3.1//EN
TZID:America/New_York
X-WR-TIMEZONE:America/New_York
BEGIN:VEVENT
UID:1656@mohawkvalley.today
DTSTART;TZID=America/New_York:20251016T190000
DTEND;TZID=America/New_York:20251016T190000
DTSTAMP:20250925T211212Z
URL:https://mohawkvalley.today/events/hall-of-fame-president-to-speak-at-h
 artwick-colleges-meredith-sport-management-speaker-series/
SUMMARY:Hall of Fame President to Speak at Hartwick College's Meredith Spor
 t Management Speaker Series
DESCRIPTION:At 7 p.m. Thursday\, Oct. 16\, Josh Rawitch\, president of the 
 National Baseball Hall of Fame and Museum\, will headline the Meredith Spo
 rt Management Speaker Series in Anderson Theatre at Hartwick College.
ATTACH;FMTTYPE=image/jpeg:https://mohawkvalley.today/new/wp-content/upload
 s/2025/09/IMG_9152.png
CATEGORIES:Oneonta NY,Otsego County
LOCATION:Anderson Theatre\, 50 Clinton St.\, Oneonta\, New York\, 13820\, U
 nited States
X-APPLE-STRUCTURED-LOCATION;VALUE=URI;X-ADDRESS=50 Clinton St.\, Oneonta\, 
 New York\, 13820\, United States;X-APPLE-RADIUS=100;X-TITLE=Anderson Theat
 re:geo:0,0
END:VEVENT
BEGIN:VTIMEZONE
TZID:America/New_York
X-LIC-LOCATION:America/New_York
BEGIN:DAYLIGHT
DTSTART:20250309T030000
TZOFFSETFROM:-0500
TZOFFSETTO:-0400
TZNAME:EDT
END:DAYLIGHT
END:VTIMEZONE
END:VCALENDAR