BEGIN:VCALENDAR
VERSION:2.0
PRODID:-//wp-events-plugin.com//7.2.3.1//EN
TZID:America/New_York
X-WR-TIMEZONE:America/New_York
BEGIN:VEVENT
UID:2981@mohawkvalley.today
DTSTART;TZID=America/New_York:20260430T180000
DTEND;TZID=America/New_York:20260430T180000
DTSTAMP:20260421T105445Z
URL:https://mohawkvalley.today/events/hartwick-college-athletics-benefit-a
 uction/
SUMMARY:Hartwick College Athletics Benefit Auction
DESCRIPTION:The Hartwick College Athletics Benefit Auction will begin at 6:
 00 p.m.\, on Thursday\, April 30\, 2026 at Lambros Arena in Oneonta\, NY.
ATTACH;FMTTYPE=image/jpeg:https://mohawkvalley.today/new/wp-content/upload
 s/2026/03/IMG_4701.jpeg
CATEGORIES:Oneonta NY,Otsego County
LOCATION:Lambros Arena\, 1 Hartwick Drive\, Oneonta\, New York\, United Sta
 tes
X-APPLE-STRUCTURED-LOCATION;VALUE=URI;X-ADDRESS=1 Hartwick Drive\, Oneonta\
 , New York\, United States;X-APPLE-RADIUS=100;X-TITLE=Lambros Arena:geo:0,
 0
END:VEVENT
BEGIN:VTIMEZONE
TZID:America/New_York
X-LIC-LOCATION:America/New_York
BEGIN:DAYLIGHT
DTSTART:20260308T030000
TZOFFSETFROM:-0500
TZOFFSETTO:-0400
TZNAME:EDT
END:DAYLIGHT
END:VTIMEZONE
END:VCALENDAR