BEGIN:VCALENDAR
VERSION:2.0
PRODID:-//wp-events-plugin.com//7.2.3.1//EN
TZID:America/New_York
X-WR-TIMEZONE:America/New_York
BEGIN:VEVENT
UID:2830@mohawkvalley.today
DTSTART;TZID=America/New_York:20260401T170000
DTEND;TZID=America/New_York:20260401T180000
DTSTAMP:20260331T115839Z
URL:https://mohawkvalley.today/events/hartwick-college-hosts-talk-on-ai-an
 d-human-decision-making/
SUMMARY:Hartwick College Hosts Talk on AI and Human Decision-Making
DESCRIPTION:AI visionary Phil Wennker will present "The End of Understandin
 g: When Machines Work But We Don't Know Why" on Wednesday\, April 1
ATTACH;FMTTYPE=image/jpeg:https://mohawkvalley.today/new/wp-content/upload
 s/2026/03/IMG_1311.jpeg
CATEGORIES:Oneonta NY,Otsego County
LOCATION:Yager Hall\, 1 Hartwick Drive\, Oneonta\, New York\, 13820\, 
X-APPLE-STRUCTURED-LOCATION;VALUE=URI;X-ADDRESS=1 Hartwick Drive\, Oneonta\
 , New York\, 13820\, ;X-APPLE-RADIUS=100;X-TITLE=Yager Hall:geo:0,0
END:VEVENT
BEGIN:VTIMEZONE
TZID:America/New_York
X-LIC-LOCATION:America/New_York
BEGIN:DAYLIGHT
DTSTART:20260308T030000
TZOFFSETFROM:-0500
TZOFFSETTO:-0400
TZNAME:EDT
END:DAYLIGHT
END:VTIMEZONE
END:VCALENDAR