BEGIN:VCALENDAR
VERSION:2.0
PRODID:-//wp-events-plugin.com//7.2.3.1//EN
TZID:America/New_York
X-WR-TIMEZONE:America/New_York
BEGIN:VEVENT
UID:2831@mohawkvalley.today
DTSTART;TZID=America/New_York:20260404T103000
DTEND;TZID=America/New_York:20260404T143000
DTSTAMP:20260331T121615Z
URL:https://mohawkvalley.today/events/hartwick-college-to-host-american-re
 d-cross-blood-drive/
SUMMARY:Hartwick College to Host American Red Cross Blood Drive
DESCRIPTION:Hartwick College will host an American Red Cross blood drive on
  Saturday\, April 4\, from 10:30 a.m. to 2:30 p.m. in the Celebration Room
  of Shineman Chapel.
ATTACH;FMTTYPE=image/jpeg:https://mohawkvalley.today/new/wp-content/upload
 s/2026/03/Spring-26-Blood-Drive-Shirt-.png
CATEGORIES:Oneonta NY,Otsego County
LOCATION:Shineman Chapel House at Hartwick College\, 24 Hartwick Drive\, On
 eonta\, NY\, 13820\, United States
X-APPLE-STRUCTURED-LOCATION;VALUE=URI;X-ADDRESS=24 Hartwick Drive\, Oneonta
 \, NY\, 13820\, United States;X-APPLE-RADIUS=100;X-TITLE=Shineman Chapel H
 ouse at Hartwick College:geo:0,0
END:VEVENT
BEGIN:VTIMEZONE
TZID:America/New_York
X-LIC-LOCATION:America/New_York
BEGIN:DAYLIGHT
DTSTART:20260308T030000
TZOFFSETFROM:-0500
TZOFFSETTO:-0400
TZNAME:EDT
END:DAYLIGHT
END:VTIMEZONE
END:VCALENDAR