BEGIN:VCALENDAR
VERSION:2.0
PRODID:-//wp-events-plugin.com//7.2.3.1//EN
TZID:America/New_York
X-WR-TIMEZONE:America/New_York
BEGIN:VEVENT
UID:1860@mohawkvalley.today
DTSTART;TZID=America/New_York:20251116T130000
DTEND;TZID=America/New_York:20251116T150000
DTSTAMP:20251113T124316Z
URL:https://mohawkvalley.today/events/hartwick-colleges-yager-museum-invit
 es-families-on-a-quest-for-fun/
SUMMARY:Hartwick College's Yager Museum Invites Families on a Quest for Fun
DESCRIPTION:Hartwick College's Yager Museum Invites Families on a Quest for
  Fun\nYager Museum of Art &amp\; Culture is excited to present a new famil
 y event\, Family Quest\, on Sunday\, Nov.16\, beginning at 1 p.m.\nThe Yag
 er Museum of Art &amp\; Culture at Harwick College is seeking adventurous 
 and intrepid families to unravel a mystery within its galleries. Arrive an
 ytime between 1 and 3 p.m.to collect your Quest Guide and begin your adven
 ture.\n\nComplete six fun tasks\, such as art\, crafts and scavenger hunts
  and others\, to gather the clues needed to solve the mystery. If you succ
 eed (and we're sure you will)\, there will be a prize waiting for you at t
 he end of the game.\nFamily Quest\nFamily Quest\, developed by students in
  Hartwick College's Museum Studies program\, was designed for families wit
 h children ages 5-12. The quest takes about an hour to complete and featur
 es activities inspired by the museum's current exhibitions.\n"We love havi
 ng families and children in the museum\," said Museum Curator Quentin Lewi
 s. "Family Quest is an exciting new program full of art and fun adventure.
 "\nThe event is free and open to the public\, with refreshments provided. 
 Plenty of free parking is available on Sundays opposite the museum's entra
 nce on the first floor of Yager Hall.\n\nThe museum's regular hours are Tu
 esday to Saturday\, 11:30 a.m. to 4:30 p.m. when the College is in session
 . It is closed on Sundays\, Mondays\, college holidays and when the Colleg
 e is not in session. Admission is free. For more information about this an
 d other events\, visit the museum's Facebook page or website\, call 607-43
 1-4480\, or email Lewis at lewisq@hartwick.edu.
ATTACH;FMTTYPE=image/jpeg:https://mohawkvalley.today/new/wp-content/upload
 s/2025/11/IMG_0038.jpeg
CATEGORIES:Oneonta NY,Otsego County
LOCATION:Yager Museum of Art and Culture\, 1 Hartwick Dr\, Oneonta\, New Yo
 rk\, 13820-4000\, United States
X-APPLE-STRUCTURED-LOCATION;VALUE=URI;X-ADDRESS=1 Hartwick Dr\, Oneonta\, N
 ew York\, 13820-4000\, United States;X-APPLE-RADIUS=100;X-TITLE=Yager Muse
 um of Art and Culture:geo:0,0
END:VEVENT
BEGIN:VTIMEZONE
TZID:America/New_York
X-LIC-LOCATION:America/New_York
BEGIN:STANDARD
DTSTART:20251102T010000
TZOFFSETFROM:-0400
TZOFFSETTO:-0500
TZNAME:EST
END:STANDARD
END:VTIMEZONE
END:VCALENDAR