BEGIN:VCALENDAR
VERSION:2.0
PRODID:-//wp-events-plugin.com//7.2.3.1//EN
TZID:America/New_York
X-WR-TIMEZONE:America/New_York
BEGIN:VEVENT
UID:720@mohawkvalley.today
DTSTART;TZID=America/New_York:20260202T140000
DTEND;TZID=America/New_York:20260202T180000
DTSTAMP:20260121T152910Z
URL:https://mohawkvalley.today/events/herkimer-blood-drive/
SUMMARY:Herkimer Blood Drive at the Basloe Library
DESCRIPTION:The American Red Cross has announced a SEVERE BLOOD SHORTAGE
 🩸\nRequests from hospitals exceed the available supply of blood\, drawi
 ng down the blood supply by about 35% over the past month This crisis is b
 eing intensified by one of the worst flu seasons in nearly 20 years\, whic
 h has reduced donor participation\, along with intense winter weather that
  has disrupted more than 400 blood drives and delayed blood deliveries.  
 Without immediate action\, patients who rely on transfusions — including
  trauma victims\, mothers during childbirth\, cancer patients\, and indivi
 duals living with sickle cell disease — may face dangerous delays in lif
 esaving care. Donors are needed NOW to stabilize the blood supply and ensu
 re hospitals nationwide can continue providing essential care to those in 
 need.\n\nSpread the word!\nIf you’re able\, please help spread the word 
 by sharing the attached blood drive flyer on your social media and within 
 your community network. Word-of-mouth and visibility are some of the most 
 effective ways to inspire donors! Just like other community events—wheth
 er it’s a chicken BBQ\, BINGO night\, field days\, concerts\, or festiva
 ls—consistent reminders and multiple touchpoints are key to engaging don
 ors in your community to save lives with us\nDonors can sign up by calling
  1-800-RedCross or visiting https://www.redcrossblood.org/give.html/drive-
 results?zipSponsor=HerkimerNY
ATTACH;FMTTYPE=image/jpeg:https://mohawkvalley.today/new/wp-content/upload
 s/2025/06/Herkimer-Lib_SQ_02.02.jpeg
CATEGORIES:Herkimer County,Herkimer NY
LOCATION:Basloe Library\, 245 N. Main Street\, Herkimer\, New York\, 13350\
 , United States
X-APPLE-STRUCTURED-LOCATION;VALUE=URI;X-ADDRESS=245 N. Main Street\, Herkim
 er\, New York\, 13350\, United States;X-APPLE-RADIUS=100;X-TITLE=Basloe Li
 brary:geo:0,0
END:VEVENT
BEGIN:VTIMEZONE
TZID:America/New_York
X-LIC-LOCATION:America/New_York
BEGIN:STANDARD
DTSTART:20251102T010000
TZOFFSETFROM:-0400
TZOFFSETTO:-0500
TZNAME:EST
END:STANDARD
END:VTIMEZONE
END:VCALENDAR