BEGIN:VCALENDAR
VERSION:2.0
PRODID:-//wp-events-plugin.com//7.2.3.1//EN
TZID:America/New_York
X-WR-TIMEZONE:America/New_York
BEGIN:VEVENT
UID:1898@mohawkvalley.today
DTSTART;TZID=America/New_York;VALUE=DATE:20251126
DTEND;TZID=America/New_York;VALUE=DATE:20251208
DTSTAMP:20251126T143144Z
URL:https://mohawkvalley.today/events/herkimer-home-state-historic-site-ho
 liday-toy-drive/
SUMMARY:Herkimer Home State Historic Site Holiday Toy Drive
DESCRIPTION:Herkimer Home Holiday Toy Drive\nThe General Herkimer Home Stat
 e Historic Site\, in partnership with the Stuff the Bus is organizing a St
 uff the Bus Holiday Toy drive.\n\nIn addition to their usual holiday progr
 amming this year the General Herkimer Home are hosting a toy drive in part
 nership with the Stone Mill in Little Falls for Stuff The Bus.\n\nThey wil
 l be accepting donations through our holiday program on December 7th and a
 ny new toys will be accepted. Do your part to help children in need in the
  Mohawk Valley and donate today!\n\n\nHERKIMER HOME TOY DRIVE STUFF the Bu
 s\nAccepting Donations Through DECEMBER 7TH\, 2025\nAt General Herkimer Ho
 me located at 200 NY-169\, Little Falls\, NY and the Little Falls CAFÉ at
  STONE MILL located at Canal Place in Little Falls\, NY. \nBring your new 
 toy donation to Herkimer Home's Christmas event on December 7th - FREE adm
 ission! For More Information and drop off details call: 315-823-0398.\n&nb
 sp\;
ATTACH;FMTTYPE=image/jpeg:https://mohawkvalley.today/new/wp-content/upload
 s/2025/11/IMG_0166.jpeg
CATEGORIES:Herkimer County,Little Falls NY
LOCATION:Herkimer Home State Historic Site\, 200 State Route 169\, Little F
 alls\, New York\, 13365\, United States
X-APPLE-STRUCTURED-LOCATION;VALUE=URI;X-ADDRESS=200 State Route 169\, Littl
 e Falls\, New York\, 13365\, United States;X-APPLE-RADIUS=100;X-TITLE=Herk
 imer Home State Historic Site:geo:0,0
END:VEVENT
BEGIN:VTIMEZONE
TZID:America/New_York
X-LIC-LOCATION:America/New_York
BEGIN:STANDARD
DTSTART:20251102T010000
TZOFFSETFROM:-0400
TZOFFSETTO:-0500
TZNAME:EST
END:STANDARD
END:VTIMEZONE
END:VCALENDAR