BEGIN:VCALENDAR
VERSION:2.0
PRODID:-//wp-events-plugin.com//7.2.3.1//EN
TZID:America/New_York
X-WR-TIMEZONE:America/New_York
BEGIN:VEVENT
UID:2995@mohawkvalley.today
DTSTART;TZID=America/New_York:20260424T170000
DTEND;TZID=America/New_York:20260424T210000
DTSTAMP:20260424T192434Z
URL:https://mohawkvalley.today/events/hope-april-open-mic-night/
SUMMARY:Hope April Open Mic Night
DESCRIPTION:Join us TONIGHT for our April Open Mic Night\, where voices are
  heard\, stories are shared and creativity shines.
ATTACH;FMTTYPE=image/jpeg:https://mohawkvalley.today/new/wp-content/upload
 s/2026/04/IMG_2062.jpeg
CATEGORIES:Oneida County,Rome NY
LOCATION:CFLR Rome Atrium\, 201 West Dominick Street\, Rome\, New York\, 13
 440\, United States
X-APPLE-STRUCTURED-LOCATION;VALUE=URI;X-ADDRESS=201 West Dominick Street\, 
 Rome\, New York\, 13440\, United States;X-APPLE-RADIUS=100;X-TITLE=CFLR Ro
 me Atrium:geo:0,0
END:VEVENT
BEGIN:VTIMEZONE
TZID:America/New_York
X-LIC-LOCATION:America/New_York
BEGIN:DAYLIGHT
DTSTART:20260308T030000
TZOFFSETFROM:-0500
TZOFFSETTO:-0400
TZNAME:EDT
END:DAYLIGHT
END:VTIMEZONE
END:VCALENDAR