BEGIN:VCALENDAR
VERSION:2.0
PRODID:-//wp-events-plugin.com//7.2.3.1//EN
TZID:America/New_York
X-WR-TIMEZONE:America/New_York
BEGIN:VEVENT
UID:1877@mohawkvalley.today
DTSTART;TZID=America/New_York:20251121T103000
DTEND;TZID=America/New_York:20251122T153000
DTSTAMP:20251121T103048Z
URL:https://mohawkvalley.today/events/ilion-free-public-library-book-sale/
SUMMARY:Ilion Free Public Library Book Sale
DESCRIPTION:We’ve still got a great selection of items at the Ilion Free 
 Public Library’s Annual Book Sale!
ATTACH;FMTTYPE=image/jpeg:https://mohawkvalley.today/new/wp-content/upload
 s/2023/07/IMG_1978.jpeg
CATEGORIES:Herkimer County,Ilion NY
LOCATION:Ilion Free Public Library\, 78 West Street\, Ilion\, New York\, 13
 357\, United States
X-APPLE-STRUCTURED-LOCATION;VALUE=URI;X-ADDRESS=78 West Street\, Ilion\, Ne
 w York\, 13357\, United States;X-APPLE-RADIUS=100;X-TITLE=Ilion Free Publi
 c Library:geo:0,0
END:VEVENT
BEGIN:VTIMEZONE
TZID:America/New_York
X-LIC-LOCATION:America/New_York
BEGIN:STANDARD
DTSTART:20251102T010000
TZOFFSETFROM:-0400
TZOFFSETTO:-0500
TZNAME:EST
END:STANDARD
END:VTIMEZONE
END:VCALENDAR