BEGIN:VCALENDAR
VERSION:2.0
PRODID:-//wp-events-plugin.com//7.2.3.1//EN
TZID:America/New_York
X-WR-TIMEZONE:America/New_York
BEGIN:VEVENT
UID:1464@mohawkvalley.today
DTSTART;TZID=America/New_York:20250812T101500
DTEND;TZID=America/New_York:20250812T101500
DTSTAMP:20250811T210233Z
URL:https://mohawkvalley.today/events/ilion-welcomes-shook-salads-acai-wit
 h-grand-opening-celebration/
SUMMARY:Ilion Welcomes SHOOK. Salads & Açaí with Grand Opening Celebratio
 n
DESCRIPTION:SHOOK. Salads & Açaí will officially open its doors in the h
 eart of Ilion’s Central Plaza with a grand opening celebration on Tuesda
 y\, August 12 at 10:15 a.m.
ATTACH;FMTTYPE=image/jpeg:https://mohawkvalley.today/new/wp-content/upload
 s/2025/08/July-18-20-Featured-Weekend-Events-Instagram-Post-45-1.jpeg
CATEGORIES:Herkimer County,Ilion NY
LOCATION:Shook. Salads and Açaí\, 40 Central Plaza\, Store 2\,\, NY\, Ili
 on\, New York\, United States
X-APPLE-STRUCTURED-LOCATION;VALUE=URI;X-ADDRESS=40 Central Plaza\, Store 2\
 ,\, NY\, Ilion\, New York\, United States;X-APPLE-RADIUS=100;X-TITLE=Shook
 . Salads and Açaí:geo:0,0
END:VEVENT
BEGIN:VTIMEZONE
TZID:America/New_York
X-LIC-LOCATION:America/New_York
BEGIN:DAYLIGHT
DTSTART:20250309T030000
TZOFFSETFROM:-0500
TZOFFSETTO:-0400
TZNAME:EDT
END:DAYLIGHT
END:VTIMEZONE
END:VCALENDAR