BEGIN:VCALENDAR
VERSION:2.0
PRODID:-//wp-events-plugin.com//7.2.3.1//EN
TZID:America/New_York
X-WR-TIMEZONE:America/New_York
BEGIN:VEVENT
UID:1910@mohawkvalley.today
DTSTART;TZID=America/New_York:20260113T100000
DTEND;TZID=America/New_York:20260113T120000
DTSTAMP:20251205T115818Z
URL:https://mohawkvalley.today/events/is-mwbe-for-me/
SUMMARY:Is MWBE for Me?
DESCRIPTION:Curious about New York State’s Minority- and Women-Owned Busi
 ness Enterprise (MWBE) certification and how it could benefit your busines
 s?
ATTACH;FMTTYPE=image/jpeg:https://mohawkvalley.today/new/wp-content/upload
 s/2025/12/IMG_0311.jpeg
CATEGORIES:Cobleskill NY,Fulton County,Herkimer County,Mohawk
 Valley,Montgomery County,Oneida County,Otsego County,Schoharie County
LOCATION:Prentice Hall\, SUNY Cobleskill\, Institute for Rural Vitality\, 1
 52 Albany Avenue\, Cobleskill\, New York\, 12043\, United States
X-APPLE-STRUCTURED-LOCATION;VALUE=URI;X-ADDRESS=152 Albany Avenue\, Coblesk
 ill\, New York\, 12043\, United States;X-APPLE-RADIUS=100;X-TITLE=Prentice
  Hall\, SUNY Cobleskill\, Institute for Rural Vitality:geo:0,0
END:VEVENT
BEGIN:VTIMEZONE
TZID:America/New_York
X-LIC-LOCATION:America/New_York
BEGIN:STANDARD
DTSTART:20251102T010000
TZOFFSETFROM:-0400
TZOFFSETTO:-0500
TZNAME:EST
END:STANDARD
END:VTIMEZONE
END:VCALENDAR