BEGIN:VCALENDAR
VERSION:2.0
PRODID:-//wp-events-plugin.com//7.2.3.1//EN
TZID:America/New_York
X-WR-TIMEZONE:America/New_York
BEGIN:VEVENT
UID:1655@mohawkvalley.today
DTSTART;TZID=America/New_York:20250929T093000
DTEND;TZID=America/New_York:20250929T093000
DTSTAMP:20250924T205026Z
URL:https://mohawkvalley.today/events/keep-mohawk-valley-beautiful-celebra
 tes-2025-efforts/
SUMMARY:Keep Mohawk Valley Beautiful Celebrates 2025 Efforts
DESCRIPTION:KMVB is getting ready for our wrap up event on Monday\, Septemb
 er 29th at 9:30am at the Mohawk Valley Community Action Agency’s Corners
 tone Head Start building\, at 1100 Miller Street\, Utica\, NY.
ATTACH;FMTTYPE=image/jpeg:https://mohawkvalley.today/new/wp-content/upload
 s/2024/04/IMG_3765.jpeg
CATEGORIES:Barneveld NY,Oneida County
LOCATION:Mohawk Valley Community Action Agency’s Cornerstone Head Start\,
  1100 Miller Street\, Utica\, New York\, United States
X-APPLE-STRUCTURED-LOCATION;VALUE=URI;X-ADDRESS=1100 Miller Street\, Utica\
 , New York\, United States;X-APPLE-RADIUS=100;X-TITLE=Mohawk Valley Commun
 ity Action Agency’s Cornerstone Head Start:geo:0,0
END:VEVENT
BEGIN:VTIMEZONE
TZID:America/New_York
X-LIC-LOCATION:America/New_York
BEGIN:DAYLIGHT
DTSTART:20250309T030000
TZOFFSETFROM:-0500
TZOFFSETTO:-0400
TZNAME:EDT
END:DAYLIGHT
END:VTIMEZONE
END:VCALENDAR