BEGIN:VCALENDAR
VERSION:2.0
PRODID:-//wp-events-plugin.com//7.2.3.1//EN
TZID:America/New_York
X-WR-TIMEZONE:America/New_York
BEGIN:VEVENT
UID:1907@mohawkvalley.today
DTSTART;TZID=America/New_York;VALUE=DATE:20251205
DTEND;TZID=America/New_York;VALUE=DATE:20251208
DTSTAMP:20251203T102646Z
URL:https://mohawkvalley.today/events/kick-off-the-holiday-season-in-glove
 rsville-weekend-of-dec-5-7/
SUMMARY:Kick Off the Holiday Season in Gloversville Weekend of Dec. 5–7
DESCRIPTION:Downtown Gloversville will come alive December 5\, 6\, and 7 wi
 th festive events\, family-friendly activities\, and the community’s bel
 oved annual Christmas Parade.
ATTACH;FMTTYPE=image/jpeg:https://mohawkvalley.today/new/wp-content/upload
 s/2025/10/IMG_9301.jpeg
CATEGORIES:Fulton County,Gloversville NY
LOCATION:City of Gloversville\, North Main Street\, Gloversville\, New York
 \, 12078\, United States
X-APPLE-STRUCTURED-LOCATION;VALUE=URI;X-ADDRESS=North Main Street\, Glovers
 ville\, New York\, 12078\, United States;X-APPLE-RADIUS=100;X-TITLE=City o
 f Gloversville:geo:0,0
END:VEVENT
BEGIN:VTIMEZONE
TZID:America/New_York
X-LIC-LOCATION:America/New_York
BEGIN:STANDARD
DTSTART:20251102T010000
TZOFFSETFROM:-0400
TZOFFSETTO:-0500
TZNAME:EST
END:STANDARD
END:VTIMEZONE
END:VCALENDAR