BEGIN:VCALENDAR
VERSION:2.0
PRODID:-//wp-events-plugin.com//7.2.3.1//EN
TZID:America/New_York
X-WR-TIMEZONE:America/New_York
BEGIN:VEVENT
UID:2266@mohawkvalley.today
DTSTART;TZID=America/New_York:20260206T180000
DTEND;TZID=America/New_York:20260206T180000
DTSTAMP:20260126T135514Z
URL:https://mohawkvalley.today/events/koliada-winter-celebration/
SUMMARY:Koliada Winter Celebration
DESCRIPTION:Koliada Winter Celebration\nThe Telegraph School is back again 
 for a second year\, presenting “Koliada\,” an annual winter celebratio
 n of light through masks\, music\, and storytelling.\nFollowing last year
 ’s beautiful outpouring of community spirit\, and thanks to the generosi
 ty of their sponsors\, Koliada returns with expanded programming\, new per
 formers\, a gallery exhibition\, and immersive village processions\, with 
 their public performance on February 6th at 6:00 p.m at 25 Main Collective
 \, 21 Main St\, Cherry Valley\, NY.\n\nFor questions and more invormation 
 please visit https://www.thetelegraphschool.org/koliada.
ATTACH;FMTTYPE=image/jpeg:https://mohawkvalley.today/new/wp-content/upload
 s/2025/10/IMG_9625.jpeg
CATEGORIES:Cherry Valley NY,Otsego County
LOCATION:25 Main Collective\, 21 Main Street\, Cherry Valley\, New york\, U
 nited States
X-APPLE-STRUCTURED-LOCATION;VALUE=URI;X-ADDRESS=21 Main Street\, Cherry Val
 ley\, New york\, United States;X-APPLE-RADIUS=100;X-TITLE=25 Main Collecti
 ve:geo:0,0
END:VEVENT
BEGIN:VTIMEZONE
TZID:America/New_York
X-LIC-LOCATION:America/New_York
BEGIN:STANDARD
DTSTART:20251102T010000
TZOFFSETFROM:-0400
TZOFFSETTO:-0500
TZNAME:EST
END:STANDARD
END:VTIMEZONE
END:VCALENDAR