BEGIN:VCALENDAR
VERSION:2.0
PRODID:-//wp-events-plugin.com//7.2.3.1//EN
TZID:America/New_York
X-WR-TIMEZONE:America/New_York
BEGIN:VEVENT
UID:2992@mohawkvalley.today
DTSTART;TZID=America/New_York:20260502T120000
DTEND;TZID=America/New_York:20260502T120000
DTSTAMP:20260424T190446Z
URL:https://mohawkvalley.today/events/little-sprouts-at-the-gloversville-l
 ibrary/
SUMMARY:Little Sprouts at the Gloversville Library
DESCRIPTION:All Little Sprouts in grades K-5 are invited to come and start 
 seeds for spring at 12 PM on May 2nd. All supplies will be provided.
ATTACH;FMTTYPE=image/jpeg:https://mohawkvalley.today/new/wp-content/upload
 s/2026/04/IMG_2058.jpeg
CATEGORIES:Fulton County,Gloversville NY
LOCATION:Gloversville Public Library\, 58 East Fulton Street\, Gloversville
 \, New York\, 12078\, United States
X-APPLE-STRUCTURED-LOCATION;VALUE=URI;X-ADDRESS=58 East Fulton Street\, Glo
 versville\, New York\, 12078\, United States;X-APPLE-RADIUS=100;X-TITLE=Gl
 oversville Public Library:geo:0,0
END:VEVENT
BEGIN:VTIMEZONE
TZID:America/New_York
X-LIC-LOCATION:America/New_York
BEGIN:DAYLIGHT
DTSTART:20260308T030000
TZOFFSETFROM:-0500
TZOFFSETTO:-0400
TZNAME:EDT
END:DAYLIGHT
END:VTIMEZONE
END:VCALENDAR