BEGIN:VCALENDAR
VERSION:2.0
PRODID:-//wp-events-plugin.com//7.2.3.1//EN
TZID:America/New_York
X-WR-TIMEZONE:America/New_York
BEGIN:VEVENT
UID:2985@mohawkvalley.today
DTSTART;TZID=America/New_York:20260509T200000
DTEND;TZID=America/New_York:20260509T200000
DTSTAMP:20260424T135344Z
URL:https://mohawkvalley.today/events/live-at-unity-hall-driftwood/
SUMMARY:LIVE at Unity Hall  DRIFTWOOD
DESCRIPTION:Driftwood’s performance on May 9\, 2026\, begins at 8:00 PM\,
  at Unity Hall\, 101 Vanderkemp Ave\, in Barneveld.
ATTACH;FMTTYPE=image/jpeg:https://mohawkvalley.today/new/wp-content/upload
 s/2026/04/IMG_2046.jpeg
CATEGORIES:Barneveld NY,Oneida County
LOCATION:Unity Hall\, 101 Vanderkemp Avenue\, Barneveld\, New York\, 13304\
 , United States
X-APPLE-STRUCTURED-LOCATION;VALUE=URI;X-ADDRESS=101 Vanderkemp Avenue\, Bar
 neveld\, New York\, 13304\, United States;X-APPLE-RADIUS=100;X-TITLE=Unity
  Hall:geo:0,0
END:VEVENT
BEGIN:VTIMEZONE
TZID:America/New_York
X-LIC-LOCATION:America/New_York
BEGIN:DAYLIGHT
DTSTART:20260308T030000
TZOFFSETFROM:-0500
TZOFFSETTO:-0400
TZNAME:EDT
END:DAYLIGHT
END:VTIMEZONE
END:VCALENDAR