BEGIN:VCALENDAR
VERSION:2.0
PRODID:-//wp-events-plugin.com//7.2.3.1//EN
TZID:America/New_York
X-WR-TIMEZONE:America/New_York
BEGIN:VEVENT
UID:903@mohawkvalley.today
DTSTART;TZID=America/New_York:20250813T140000
DTEND;TZID=America/New_York:20250813T150000
DTSTAMP:20250703T093810Z
URL:https://mohawkvalley.today/events/magic-show-with-ron-cain/
SUMMARY:Magic Show with Ron Cain
DESCRIPTION:Join us in the Great Hall of the Arkell Museum and Canajoharie 
 Library on August 13th at 2 pm as we present Magician Ron Cain.
ATTACH;FMTTYPE=image/jpeg:https://mohawkvalley.today/new/wp-content/upload
 s/2025/07/Ron-Cain-Magic-Show-SRP-2025.png
CATEGORIES:Canajoharie NY,Montgomery County
LOCATION:Arkell Museum and Canajoharie Library\, 2 Erie Boulevard\, Canajoh
 arie\, New York\, 13317\, United States
X-APPLE-STRUCTURED-LOCATION;VALUE=URI;X-ADDRESS=2 Erie Boulevard\, Canajoha
 rie\, New York\, 13317\, United States;X-APPLE-RADIUS=100;X-TITLE=Arkell M
 useum and Canajoharie Library:geo:0,0
END:VEVENT
BEGIN:VTIMEZONE
TZID:America/New_York
X-LIC-LOCATION:America/New_York
BEGIN:DAYLIGHT
DTSTART:20250309T030000
TZOFFSETFROM:-0500
TZOFFSETTO:-0400
TZNAME:EDT
END:DAYLIGHT
END:VTIMEZONE
END:VCALENDAR