BEGIN:VCALENDAR
VERSION:2.0
PRODID:-//wp-events-plugin.com//7.2.3.1//EN
TZID:America/New_York
X-WR-TIMEZONE:America/New_York
BEGIN:VEVENT
UID:1737@mohawkvalley.today
DTSTART;TZID=America/New_York:20251020T183000
DTEND;TZID=America/New_York:20251020T183000
DTSTAMP:20251009T162215Z
URL:https://mohawkvalley.today/events/mayfield-historical-society-presenta
 tion-sir-william-johnson-and-the-founders-of-mayfield/
SUMMARY:Mayfield Historical Society Presentation: Sir William Johnson and t
 he Founders of Mayfield
DESCRIPTION:Join Mayfield Historian Eric Close as he discusses connections 
 between Johnstown's famous Loyalist\, Sir William Johnson\, and those resp
 onsible for settling in the Mayfield area.\nThe presentation will be held 
 on Monday\, October 20th\, at 6:30 p.m. at the Mayfield Central Presbyteri
 an Church\, 22 N. Main St.\, Mayfield.  Free admission and strawberries a
 nd ice cream will be served free of charge. For more information\, call 51
 8-332-0538.
ATTACH;FMTTYPE=image/jpeg:https://mohawkvalley.today/new/wp-content/upload
 s/2025/10/Image.jpeg
CATEGORIES:Fulton County,Mayfield NY
LOCATION:Mayfield Presbyterian Church\, 22 North Main Street\, Mayfield\, N
 ew York\, 12117\, United States
X-APPLE-STRUCTURED-LOCATION;VALUE=URI;X-ADDRESS=22 North Main Street\, Mayf
 ield\, New York\, 12117\, United States;X-APPLE-RADIUS=100;X-TITLE=Mayfiel
 d Presbyterian Church:geo:0,0
END:VEVENT
BEGIN:VTIMEZONE
TZID:America/New_York
X-LIC-LOCATION:America/New_York
BEGIN:DAYLIGHT
DTSTART:20250309T030000
TZOFFSETFROM:-0500
TZOFFSETTO:-0400
TZNAME:EDT
END:DAYLIGHT
END:VTIMEZONE
END:VCALENDAR