BEGIN:VCALENDAR
VERSION:2.0
PRODID:-//wp-events-plugin.com//7.2.3.1//EN
TZID:America/New_York
X-WR-TIMEZONE:America/New_York
BEGIN:VEVENT
UID:1652@mohawkvalley.today
DTSTART;TZID=America/New_York:20250923T173000
DTEND;TZID=America/New_York:20250923T190000
DTSTAMP:20250923T150949Z
URL:https://mohawkvalley.today/events/meet-the-artist-caitlin-andrejova-ni
 ght-at-the-renaissance-pub/
SUMMARY:Meet the Artist Caitlin Andrejova Night at the Renaissance Pub
DESCRIPTION:Caitlin Andrejova is a Central New York artist that specializes
  in oil painting and graphite works with an exploration of mixed media.
ATTACH;FMTTYPE=image/jpeg:https://mohawkvalley.today/new/wp-content/upload
 s/2025/09/IMG_9131.jpeg
LOCATION:Renaissance Pub\, 550 East Main Street\, Little Falls\, New York\,
  13365\, United States
X-APPLE-STRUCTURED-LOCATION;VALUE=URI;X-ADDRESS=550 East Main Street\, Litt
 le Falls\, New York\, 13365\, United States;X-APPLE-RADIUS=100;X-TITLE=Ren
 aissance Pub:geo:0,0
END:VEVENT
BEGIN:VTIMEZONE
TZID:America/New_York
X-LIC-LOCATION:America/New_York
BEGIN:DAYLIGHT
DTSTART:20250309T030000
TZOFFSETFROM:-0500
TZOFFSETTO:-0400
TZNAME:EDT
END:DAYLIGHT
END:VTIMEZONE
END:VCALENDAR