BEGIN:VCALENDAR
VERSION:2.0
PRODID:-//wp-events-plugin.com//7.2.3.1//EN
TZID:America/New_York
X-WR-TIMEZONE:America/New_York
BEGIN:VEVENT
UID:2983@mohawkvalley.today
DTSTART;TZID=America/New_York:20260422T160000
DTEND;TZID=America/New_York:20260422T180000
DTSTAMP:20260421T195245Z
URL:https://mohawkvalley.today/events/mural-and-plaque-reveal-at-the-johns
 on-park-community-center/
SUMMARY:Mural and Plaque Reveal at the Johnson Park Community Center
DESCRIPTION:Working with local artists and the Cornhill community\, The Art
  Thing Collaborative is excited about the upcoming mural and plaque reveal
  on Wednesday\, April 22 from 4:00 p.m. to 6:00 p.m.
ATTACH;FMTTYPE=image/jpeg:https://mohawkvalley.today/new/wp-content/upload
 s/2026/04/IMG_1874.jpeg
CATEGORIES:Oneida County,Utica NY
LOCATION:Johnson Park Community Center\, 1415 West Street\, Utica\, New Yor
 k\, 13501\, United States
X-APPLE-STRUCTURED-LOCATION;VALUE=URI;X-ADDRESS=1415 West Street\, Utica\, 
 New York\, 13501\, United States;X-APPLE-RADIUS=100;X-TITLE=Johnson Park C
 ommunity Center:geo:0,0
END:VEVENT
BEGIN:VTIMEZONE
TZID:America/New_York
X-LIC-LOCATION:America/New_York
BEGIN:DAYLIGHT
DTSTART:20260308T030000
TZOFFSETFROM:-0500
TZOFFSETTO:-0400
TZNAME:EDT
END:DAYLIGHT
END:VTIMEZONE
END:VCALENDAR