BEGIN:VCALENDAR
VERSION:2.0
PRODID:-//wp-events-plugin.com//7.2.3.1//EN
TZID:America/New_York
X-WR-TIMEZONE:America/New_York
BEGIN:VEVENT
UID:782@mohawkvalley.today
DTSTART;TZID=America/New_York:20250724T183000
DTEND;TZID=America/New_York:20250724T200000
DTSTAMP:20250811T115035Z
URL:https://mohawkvalley.today/events/music-in-the-park-fort-plain-2025-07
 -24/
SUMMARY:Music in the Park - Fort Plain
DESCRIPTION:Fort Plain summer concerts start at 6:30 p.m. on Thursdays\, be
 ginning on July 10\, 2025 at Haslett Park\, located at 35 Main Street\, Fo
 rt Plain NY.
ATTACH;FMTTYPE=image/jpeg:https://mohawkvalley.today/new/wp-content/upload
 s/2024/08/IMG_0029.jpeg
CATEGORIES:Concert,Fort Plain NY,Montgomery County
LOCATION:Haslett Park\, 35 Main Street\, Fort Plain\, New York\, 13339\, Un
 ited States
X-APPLE-STRUCTURED-LOCATION;VALUE=URI;X-ADDRESS=35 Main Street\, Fort Plain
 \, New York\, 13339\, United States;X-APPLE-RADIUS=100;X-TITLE=Haslett Par
 k:geo:0,0
END:VEVENT
BEGIN:VTIMEZONE
TZID:America/New_York
X-LIC-LOCATION:America/New_York
BEGIN:DAYLIGHT
DTSTART:20250309T030000
TZOFFSETFROM:-0500
TZOFFSETTO:-0400
TZNAME:EDT
END:DAYLIGHT
END:VTIMEZONE
END:VCALENDAR