BEGIN:VCALENDAR
VERSION:2.0
PRODID:-//wp-events-plugin.com//7.2.3.1//EN
TZID:America/New_York
X-WR-TIMEZONE:America/New_York
BEGIN:VEVENT
UID:2692@mohawkvalley.today
DTSTART;TZID=America/New_York:20260409T190000
DTEND;TZID=America/New_York:20260409T190000
DTSTAMP:20260309T204837Z
URL:https://mohawkvalley.today/events/nba-executive-vice-president-to-spea
 k-at-hartwick-colleges-meredith-sport-management-speaker-series/
SUMMARY:NBA Executive Vice President to Speak at Hartwick College's Meredit
 h Sport Management Speaker Series
DESCRIPTION:At 7 p.m. Thursday\, Apr. 9\, Kerry A. Tatlock\, executive vice
  president of global marketing partnerships and media at the National Bask
 etball Association (NBA)\, will headline the Meredith Sport Management Spe
 aker Series in the Anderson Theatre at Hartwick College.
ATTACH;FMTTYPE=image/jpeg:https://mohawkvalley.today/new/wp-content/upload
 s/2026/03/IMG_1030.jpeg
CATEGORIES:Oneonta NY,Otsego County
LOCATION:Anderson Theatre\, 50 Clinton St.\, Oneonta\, New York\, 13820\, U
 nited States
X-APPLE-STRUCTURED-LOCATION;VALUE=URI;X-ADDRESS=50 Clinton St.\, Oneonta\, 
 New York\, 13820\, United States;X-APPLE-RADIUS=100;X-TITLE=Anderson Theat
 re:geo:0,0
END:VEVENT
BEGIN:VTIMEZONE
TZID:America/New_York
X-LIC-LOCATION:America/New_York
BEGIN:DAYLIGHT
DTSTART:20260308T030000
TZOFFSETFROM:-0500
TZOFFSETTO:-0400
TZNAME:EDT
END:DAYLIGHT
END:VTIMEZONE
END:VCALENDAR