BEGIN:VCALENDAR
VERSION:2.0
PRODID:-//wp-events-plugin.com//7.2.3.1//EN
TZID:America/New_York
X-WR-TIMEZONE:America/New_York
BEGIN:VEVENT
UID:2988@mohawkvalley.today
DTSTART;TZID=America/New_York:20260505T100000
DTEND;TZID=America/New_York:20260505T200000
DTSTAMP:20260424T185503Z
URL:https://mohawkvalley.today/events/new-hartford-public-librarys-50th-an
 niversary-celebration-2026-05-05/
SUMMARY:New Hartford Public Library's 50th Anniversary Celebration
DESCRIPTION:Join us for a week-long celebration of the NHPL and our amazing
  community!
ATTACH;FMTTYPE=image/jpeg:https://mohawkvalley.today/new/wp-content/upload
 s/2026/04/IMG_2057.jpeg
CATEGORIES:New Hartford NY,Oneida County
LOCATION:New Hartford Public Library\, 2 Library Ln \, New Hartford\, New Y
 ork\, 13413\, United States
X-APPLE-STRUCTURED-LOCATION;VALUE=URI;X-ADDRESS=2 Library Ln \, New Hartfor
 d\, New York\, 13413\, United States;X-APPLE-RADIUS=100;X-TITLE=New Hartfo
 rd Public Library:geo:0,0
END:VEVENT
BEGIN:VTIMEZONE
TZID:America/New_York
X-LIC-LOCATION:America/New_York
BEGIN:DAYLIGHT
DTSTART:20260308T030000
TZOFFSETFROM:-0500
TZOFFSETTO:-0400
TZNAME:EDT
END:DAYLIGHT
END:VTIMEZONE
END:VCALENDAR