BEGIN:VCALENDAR
VERSION:2.0
PRODID:-//wp-events-plugin.com//7.2.3.1//EN
TZID:America/New_York
X-WR-TIMEZONE:America/New_York
BEGIN:VEVENT
UID:1880@mohawkvalley.today
DTSTART;TZID=America/New_York:20251121T160000
DTEND;TZID=America/New_York:20251121T200000
DTSTAMP:20251121T103551Z
URL:https://mohawkvalley.today/events/night-market-at-grow/
SUMMARY:Night Market at Grow!
DESCRIPTION:Join us in the taproom for another Night Market! We're bringing
  in a bunch of new vendors - PLUS we've got live music &amp\; a food truck
  on site.\nVendors:\n\nSimple Revival Baking\nHidden Fawn Homestead\nMaura
  Oconnor Illustration\nInstant Magent Bar\nUtica Vintage Club\nLive Music:
 \nEm &amp\; Sean play live from 6-9PM\nFood Truck:\nLevant from 4-8PM\n\nW
 e hope to see you there!
ATTACH;FMTTYPE=image/jpeg:https://mohawkvalley.today/new/wp-content/upload
 s/2025/11/IMG_0128.jpeg
CATEGORIES:New Hartford NY,Oneida County
LOCATION:Grow Brewing Co\, 2 Campion Road\, New Hartford\, New York\, 13413
 \, United States
X-APPLE-STRUCTURED-LOCATION;VALUE=URI;X-ADDRESS=2 Campion Road\, New Hartfo
 rd\, New York\, 13413\, United States;X-APPLE-RADIUS=100;X-TITLE=Grow Brew
 ing Co:geo:0,0
END:VEVENT
BEGIN:VTIMEZONE
TZID:America/New_York
X-LIC-LOCATION:America/New_York
BEGIN:STANDARD
DTSTART:20251102T010000
TZOFFSETFROM:-0400
TZOFFSETTO:-0500
TZNAME:EST
END:STANDARD
END:VTIMEZONE
END:VCALENDAR