BEGIN:VCALENDAR
VERSION:2.0
PRODID:-//wp-events-plugin.com//7.2.3.1//EN
TZID:America/New_York
X-WR-TIMEZONE:America/New_York
BEGIN:VEVENT
UID:1881@mohawkvalley.today
DTSTART;TZID=America/New_York:20251122T160000
DTEND;TZID=America/New_York:20251122T160000
DTSTAMP:20251121T104218Z
URL:https://mohawkvalley.today/events/november-nature-park-rides-with-the-
 scenic-railway/
SUMMARY:November Nature Park Rides with the Scenic Railway
DESCRIPTION:Fun on the Richfield Springs Scenic Railway this November- We h
 ave the railroad running the Mink Creek Local at 4PM on Saturdays.
ATTACH;FMTTYPE=image/jpeg:https://mohawkvalley.today/new/wp-content/upload
 s/2025/11/IMG_0130.jpeg
CATEGORIES:Otsego County,Richfield Springs
LOCATION:Richfield Springs Scenic Railway\, 167 Mc Koons Road\, Richfield S
 prings\, New York\, 13439\, United States
X-APPLE-STRUCTURED-LOCATION;VALUE=URI;X-ADDRESS=167 Mc Koons Road\, Richfie
 ld Springs\, New York\, 13439\, United States;X-APPLE-RADIUS=100;X-TITLE=R
 ichfield Springs Scenic Railway:geo:0,0
END:VEVENT
BEGIN:VTIMEZONE
TZID:America/New_York
X-LIC-LOCATION:America/New_York
BEGIN:STANDARD
DTSTART:20251102T010000
TZOFFSETFROM:-0400
TZOFFSETTO:-0500
TZNAME:EST
END:STANDARD
END:VTIMEZONE
END:VCALENDAR