BEGIN:VCALENDAR
VERSION:2.0
PRODID:-//wp-events-plugin.com//7.2.3.1//EN
TZID:America/New_York
X-WR-TIMEZONE:America/New_York
BEGIN:VEVENT
UID:2255@mohawkvalley.today
DTSTART;TZID=America/New_York:20260319T110000
DTEND;TZID=America/New_York:20260319T120000
DTSTAMP:20260120T135050Z
URL:https://mohawkvalley.today/events/old-forge-library-offers-free-sexual
 -harassment-prevention-training-on-zoom-mar19/
SUMMARY:Old Forge Library Offers Free Sexual Harassment Prevention Training
  On Zoom
DESCRIPTION:The Old Forge Library is offering free sexual harassment preven
 tion training sessions via Zoom. Multiple sessions are scheduled to accomm
 odate a range of availability.
ATTACH;FMTTYPE=image/jpeg:https://mohawkvalley.today/new/wp-content/upload
 s/2026/01/IMG_0633.jpeg
CATEGORIES:Herkimer County,Old Forge NY
END:VEVENT
BEGIN:VTIMEZONE
TZID:America/New_York
X-LIC-LOCATION:America/New_York
BEGIN:DAYLIGHT
DTSTART:20260308T030000
TZOFFSETFROM:-0500
TZOFFSETTO:-0400
TZNAME:EDT
END:DAYLIGHT
END:VTIMEZONE
END:VCALENDAR