BEGIN:VCALENDAR
VERSION:2.0
PRODID:-//wp-events-plugin.com//7.2.3.1//EN
TZID:America/New_York
X-WR-TIMEZONE:America/New_York
BEGIN:VEVENT
UID:2704@mohawkvalley.today
DTSTART;TZID=America/New_York:20260313T173000
DTEND;TZID=America/New_York:20260313T173000
DTSTAMP:20260311T122703Z
URL:https://mohawkvalley.today/events/old-forge-st-patricks-day-parade/
SUMMARY:Old Forge St. Patrick’s Day Parade
DESCRIPTION:The Old Forge Saint Patrick’s Day Parade is on Friday\, March
  13\, 2026 beginning at 5:30 p.m. starting at Gilbert Street in Old Forge\
 , NY.
ATTACH;FMTTYPE=image/jpeg:https://mohawkvalley.today/new/wp-content/upload
 s/2026/03/IMG_4699.jpeg
CATEGORIES:Herkimer County,Old Forge NY
END:VEVENT
BEGIN:VTIMEZONE
TZID:America/New_York
X-LIC-LOCATION:America/New_York
BEGIN:DAYLIGHT
DTSTART:20260308T030000
TZOFFSETFROM:-0500
TZOFFSETTO:-0400
TZNAME:EDT
END:DAYLIGHT
END:VTIMEZONE
END:VCALENDAR