BEGIN:VCALENDAR
VERSION:2.0
PRODID:-//wp-events-plugin.com//7.2.3.1//EN
TZID:America/New_York
X-WR-TIMEZONE:America/New_York
BEGIN:VEVENT
UID:2837@mohawkvalley.today
DTSTART;TZID=America/New_York:20260411T140000
DTEND;TZID=America/New_York:20260411T140000
DTSTAMP:20260402T113033Z
URL:https://mohawkvalley.today/events/oneida-county-history-center-to-host
 -author-talk-on-arts-and-crafts-utopias/
SUMMARY:Oneida County History Center to Host Author Talk on Arts and Craft
 s Utopias
DESCRIPTION:The Oneida County History Center will host a talk featuring Tom
  Guiler\, author of “The Hand-Crafted Utopia: Arts and Crafts Communitie
 s in America’s Progressive Era\,” on Saturday\, April 11\, at 2:00 p.m
 .
ATTACH;FMTTYPE=image/jpeg:https://mohawkvalley.today/new/wp-content/upload
 s/2026/04/IMG_1410.jpeg
CATEGORIES:Oneida County,Utica NY
LOCATION:Oneida County History Center\, 1608 Genesee St\, Utica\, New York\
 , 13502\, United States
X-APPLE-STRUCTURED-LOCATION;VALUE=URI;X-ADDRESS=1608 Genesee St\, Utica\, N
 ew York\, 13502\, United States;X-APPLE-RADIUS=100;X-TITLE=Oneida County H
 istory Center:geo:0,0
END:VEVENT
BEGIN:VTIMEZONE
TZID:America/New_York
X-LIC-LOCATION:America/New_York
BEGIN:DAYLIGHT
DTSTART:20260308T030000
TZOFFSETFROM:-0500
TZOFFSETTO:-0400
TZNAME:EDT
END:DAYLIGHT
END:VTIMEZONE
END:VCALENDAR