BEGIN:VCALENDAR
VERSION:2.0
PRODID:-//wp-events-plugin.com//7.2.3.1//EN
TZID:America/New_York
X-WR-TIMEZONE:America/New_York
BEGIN:VEVENT
UID:1899@mohawkvalley.today
DTSTART;TZID=America/New_York:20251206T163000
DTEND;TZID=America/New_York:20251206T163000
DTSTAMP:20251201T114250Z
URL:https://mohawkvalley.today/events/oneonta-holiday-tree-lighting-ceremo
 ny/
SUMMARY:Oneonta Holiday Tree Lighting Ceremony
DESCRIPTION:Oneonta Holiday Tree Lighting Ceremony\nThe Oneonta Holiday Tre
 e Lighting Ceremony begins at 4:30 on Saturday\, December 6\, 2026 at Muel
 ler Plaza in Oneonta\, NY.\nCome one\, come all! It’s the most wonderful
  time of the year! We invite you to Oneonta’s Annual Holiday Tree Lighti
 ng!\n\nJoin us at Muller Plaza immediately following the parade as Orpheus
  Theater takes the stage at 4 p.m. to sing songs from Hello Dolly! Gather 
 with friends and family as we light up the Holiday Tree at 4:30 p.m.\n\nMe
 et Santa at the Cottage from 4:30pm- 6:30pm\nHang out with Hill City Princ
 esses 4:00pm - 5:00pm (30 min at Muller Plaza and 30 min at Foothills)\n\n
 After the Lighting of the Tree at 4:30 p.m.\, we invite you to walk with u
 s and the Princesses to Foothills Performing Arts Center to continue the c
 elebration. We will provide GLOW STICKS for the children to help light the
  way! Once at Foothills\, Mrs Claus will have crafts for children and BJ t
 he Clown will provide fun balloons.\n\n&nbsp\;
ATTACH;FMTTYPE=image/jpeg:https://mohawkvalley.today/new/wp-content/upload
 s/2025/12/IMG_4307.jpeg
CATEGORIES:Oneonta NY,Otsego County
LOCATION:Mueller Plaza Oneonta\, 194-260 New York 23\, Oneonta\, New York\,
  13820\, United States
X-APPLE-STRUCTURED-LOCATION;VALUE=URI;X-ADDRESS=194-260 New York 23\, Oneon
 ta\, New York\, 13820\, United States;X-APPLE-RADIUS=100;X-TITLE=Mueller P
 laza Oneonta:geo:0,0
END:VEVENT
BEGIN:VTIMEZONE
TZID:America/New_York
X-LIC-LOCATION:America/New_York
BEGIN:STANDARD
DTSTART:20251102T010000
TZOFFSETFROM:-0400
TZOFFSETTO:-0500
TZNAME:EST
END:STANDARD
END:VTIMEZONE
END:VCALENDAR