BEGIN:VCALENDAR
VERSION:2.0
PRODID:-//wp-events-plugin.com//7.2.3.1//EN
TZID:America/New_York
X-WR-TIMEZONE:America/New_York
BEGIN:VEVENT
UID:2829@mohawkvalley.today
DTSTART;TZID=America/New_York:20260411T123000
DTEND;TZID=America/New_York:20260411T163000
DTSTAMP:20260330T142402Z
URL:https://mohawkvalley.today/events/sip-shop/
SUMMARY:Sip & Shop
DESCRIPTION:The Lanterns’ FIRST Sip & Shop Event Come grab a drink\, shop
  local\, and spend your Saturday supporting some amazing small businesses!
ATTACH;FMTTYPE=image/jpeg:https://mohawkvalley.today/new/wp-content/upload
 s/2026/03/IMG_1288.jpeg
CATEGORIES:Clayville NY,Oneida County
LOCATION:The Lanterns\, 275 Rasbach Road\, Clayville\, New York\, 13322\, U
 nited States
X-APPLE-STRUCTURED-LOCATION;VALUE=URI;X-ADDRESS=275 Rasbach Road\, Clayvill
 e\, New York\, 13322\, United States;X-APPLE-RADIUS=100;X-TITLE=The Lanter
 ns:geo:0,0
END:VEVENT
BEGIN:VTIMEZONE
TZID:America/New_York
X-LIC-LOCATION:America/New_York
BEGIN:DAYLIGHT
DTSTART:20260308T030000
TZOFFSETFROM:-0500
TZOFFSETTO:-0400
TZNAME:EDT
END:DAYLIGHT
END:VTIMEZONE
END:VCALENDAR