BEGIN:VCALENDAR
VERSION:2.0
PRODID:-//wp-events-plugin.com//7.2.3.1//EN
TZID:America/New_York
X-WR-TIMEZONE:America/New_York
BEGIN:VEVENT
UID:2982@mohawkvalley.today
DTSTART;TZID=America/New_York:20260507T183000
DTEND;TZID=America/New_York:20260507T183000
DTSTAMP:20260421T134235Z
URL:https://mohawkvalley.today/events/sparc-igniting-prosperity/
SUMMARY:SPARC: Igniting Prosperity
DESCRIPTION:SPARC: Igniting Prosperity begins at 6:30 p.m. on May 7\, 2026 
 at the Cobleskill-Richmondville High School\, Richmondville\, NY.
ATTACH;FMTTYPE=image/jpeg:https://mohawkvalley.today/new/wp-content/upload
 s/2026/04/IMG_4790.jpeg
CATEGORIES:Richmondville NY,Schoharie County
LOCATION:Cobleskill-Richmondville High Schoo\, 1353 State Route 7\, Richmon
 dville\, New York \, United States
X-APPLE-STRUCTURED-LOCATION;VALUE=URI;X-ADDRESS=1353 State Route 7\, Richmo
 ndville\, New York \, United States;X-APPLE-RADIUS=100;X-TITLE=Cobleskill-
 Richmondville High Schoo:geo:0,0
END:VEVENT
BEGIN:VTIMEZONE
TZID:America/New_York
X-LIC-LOCATION:America/New_York
BEGIN:DAYLIGHT
DTSTART:20260308T030000
TZOFFSETFROM:-0500
TZOFFSETTO:-0400
TZNAME:EDT
END:DAYLIGHT
END:VTIMEZONE
END:VCALENDAR